Package: UCSCRepeatMasker Version: 3.17.3 Command: /home/biocbuild/bbs-3.17-bioc/R/bin/R CMD INSTALL UCSCRepeatMasker StartedAt: 2023-10-11 05:30:08 -0400 (Wed, 11 Oct 2023) EndedAt: 2023-10-11 05:30:23 -0400 (Wed, 11 Oct 2023) EllapsedTime: 15.4 seconds RetCode: 0 Status: OK