Package: UCSCRepeatMasker Version: 3.17.3 Command: /home/biocbuild/bbs-3.17-bioc/R/bin/R CMD check --install=check:UCSCRepeatMasker.install-out.txt --library=/home/biocbuild/bbs-3.17-bioc/R/site-library --timings UCSCRepeatMasker_3.17.3.tar.gz StartedAt: 2023-10-11 05:33:58 -0400 (Wed, 11 Oct 2023) EndedAt: 2023-10-11 05:35:58 -0400 (Wed, 11 Oct 2023) EllapsedTime: 120.2 seconds RetCode: 1 Status: ERROR CheckDir: UCSCRepeatMasker.Rcheck Warnings: NA