Package: AHEnsDbs Version: 1.1.10 Command: /home/biocbuild/bbs-3.17-bioc/R/bin/R CMD INSTALL AHEnsDbs StartedAt: 2023-10-11 05:30:14 -0400 (Wed, 11 Oct 2023) EndedAt: 2023-10-11 05:30:39 -0400 (Wed, 11 Oct 2023) EllapsedTime: 24.6 seconds RetCode: 0 Status: OK