Package: AHEnsDbs Version: 1.1.10 Command: /home/biocbuild/bbs-3.17-bioc/R/bin/R CMD check --install=check:AHEnsDbs.install-out.txt --library=/home/biocbuild/bbs-3.17-bioc/R/site-library --timings AHEnsDbs_1.1.10.tar.gz StartedAt: 2023-10-11 05:32:59 -0400 (Wed, 11 Oct 2023) EndedAt: 2023-10-11 05:34:54 -0400 (Wed, 11 Oct 2023) EllapsedTime: 115.1 seconds RetCode: 0 Status: OK CheckDir: AHEnsDbs.Rcheck Warnings: 0