Package: vissE Version: 1.7.0 Command: chmod a+r vissE -R && F:\biocbuild\bbs-3.17-bioc\R\bin\R.exe CMD build --keep-empty-dirs --no-resave-data vissE StartedAt: 2022-12-28 21:10:27 -0500 (Wed, 28 Dec 2022) EndedAt: 2022-12-28 21:16:27 -0500 (Wed, 28 Dec 2022) EllapsedTime: 359.4 seconds RetCode: 0 Status: OK PackageFile: vissE_1.7.0.tar.gz PackageFileSize: 967.9 KiB