Package: tRNA Version: 1.17.1 Command: chmod a+r tRNA -R && F:\biocbuild\bbs-3.17-bioc\R\bin\R.exe CMD build --keep-empty-dirs --no-resave-data tRNA StartedAt: 2022-12-28 21:03:59 -0500 (Wed, 28 Dec 2022) EndedAt: 2022-12-28 21:06:07 -0500 (Wed, 28 Dec 2022) EllapsedTime: 127.9 seconds RetCode: 0 Status: OK PackageFile: tRNA_1.17.1.tar.gz PackageFileSize: 576.7 KiB