Package: staRank Version: 1.41.0 Command: F:\biocbuild\bbs-3.17-bioc\R\bin\R.exe CMD check --no-multiarch --install=check:staRank.install-out.txt --library=F:\biocbuild\bbs-3.17-bioc\R\library --no-vignettes --timings staRank_1.41.0.tar.gz StartedAt: 2022-12-29 03:57:51 -0500 (Thu, 29 Dec 2022) EndedAt: 2022-12-29 04:00:15 -0500 (Thu, 29 Dec 2022) EllapsedTime: 143.7 seconds RetCode: 0 Status: OK CheckDir: staRank.Rcheck Warnings: 0