git_url: https://git.bioconductor.org/packages/slingshot git_branch: master git_last_commit: b2726c3 git_last_commit_date: 2022-11-01 11:17:56 -0500 (Tue, 01 Nov 2022) Package: slingshot Version: 2.7.0 Maintainer: Kelly Street MaintainerEmail: street.kelly at gmail.com