Package: similaRpeak Version: 1.31.0 Command: F:\biocbuild\bbs-3.17-bioc\R\bin\R.exe CMD INSTALL similaRpeak StartedAt: 2022-12-28 15:26:51 -0500 (Wed, 28 Dec 2022) EndedAt: 2022-12-28 15:27:06 -0500 (Wed, 28 Dec 2022) EllapsedTime: 14.3 seconds RetCode: 0 Status: OK