Package: seqTools Version: 1.33.0 Command: F:\biocbuild\bbs-3.17-bioc\R\bin\R.exe CMD INSTALL seqTools StartedAt: 2022-12-28 15:26:55 -0500 (Wed, 28 Dec 2022) EndedAt: 2022-12-28 15:27:13 -0500 (Wed, 28 Dec 2022) EllapsedTime: 18.0 seconds RetCode: 0 Status: OK