Package: seqTools Version: 1.33.0 Command: chmod a+r seqTools -R && F:\biocbuild\bbs-3.17-bioc\R\bin\R.exe CMD build --keep-empty-dirs --no-resave-data seqTools StartedAt: 2022-12-28 20:34:31 -0500 (Wed, 28 Dec 2022) EndedAt: 2022-12-28 20:35:07 -0500 (Wed, 28 Dec 2022) EllapsedTime: 35.8 seconds RetCode: 0 Status: OK PackageFile: seqTools_1.33.0.tar.gz PackageFileSize: 366.8 KiB