Package: scifer Version: 1.1.0 Command: rm -rf scifer.buildbin-libdir && mkdir scifer.buildbin-libdir && F:\biocbuild\bbs-3.17-bioc\R\bin\R.exe CMD INSTALL --build --library=scifer.buildbin-libdir scifer_1.1.0.tar.gz StartedAt: 2022-12-29 05:43:05 -0500 (Thu, 29 Dec 2022) EndedAt: 2022-12-29 05:43:23 -0500 (Thu, 29 Dec 2022) EllapsedTime: 17.4 seconds RetCode: 0 Status: OK PackageFile: scifer_1.1.0.zip PackageFileSize: 2.103 MiB