Package: scde Version: 2.27.0 Command: F:\biocbuild\bbs-3.17-bioc\R\bin\R.exe CMD check --no-multiarch --install=check:scde.install-out.txt --library=F:\biocbuild\bbs-3.17-bioc\R\library --no-vignettes --timings scde_2.27.0.tar.gz StartedAt: 2022-12-29 03:15:38 -0500 (Thu, 29 Dec 2022) EndedAt: 2022-12-29 03:18:03 -0500 (Thu, 29 Dec 2022) EllapsedTime: 145.1 seconds RetCode: 0 Status: WARNINGS CheckDir: scde.Rcheck Warnings: 2