Package: rpx Version: 2.7.0 Command: rm -rf rpx.buildbin-libdir && mkdir rpx.buildbin-libdir && F:\biocbuild\bbs-3.17-bioc\R\bin\R.exe CMD INSTALL --build --library=rpx.buildbin-libdir rpx_2.7.0.tar.gz StartedAt: 2022-12-29 05:40:19 -0500 (Thu, 29 Dec 2022) EndedAt: 2022-12-29 05:40:30 -0500 (Thu, 29 Dec 2022) EllapsedTime: 11.1 seconds RetCode: 0 Status: OK PackageFile: rpx_2.7.0.zip PackageFileSize: 456.9 KiB