Package: r3Cseq Version: 1.45.0 Command: chmod a+r r3Cseq -R && F:\biocbuild\bbs-3.17-bioc\R\bin\R.exe CMD build --keep-empty-dirs --no-resave-data r3Cseq StartedAt: 2022-12-28 19:59:10 -0500 (Wed, 28 Dec 2022) EndedAt: 2022-12-28 20:03:09 -0500 (Wed, 28 Dec 2022) EllapsedTime: 239.2 seconds RetCode: 0 Status: OK PackageFile: r3Cseq_1.45.0.tar.gz PackageFileSize: 4.161 MiB