Package: primirTSS Version: 1.17.0 Command: F:\biocbuild\bbs-3.17-bioc\R\bin\R.exe CMD check --no-multiarch --install=check:primirTSS.install-out.txt --library=F:\biocbuild\bbs-3.17-bioc\R\library --no-vignettes --timings primirTSS_1.17.0.tar.gz StartedAt: 2022-12-29 02:25:14 -0500 (Thu, 29 Dec 2022) EndedAt: 2022-12-29 02:28:47 -0500 (Thu, 29 Dec 2022) EllapsedTime: 213.6 seconds RetCode: 0 Status: WARNINGS CheckDir: primirTSS.Rcheck Warnings: 1