Package: primirTSS Version: 1.17.0 Command: chmod a+r primirTSS -R && F:\biocbuild\bbs-3.17-bioc\R\bin\R.exe CMD build --keep-empty-dirs --no-resave-data primirTSS StartedAt: 2022-12-28 19:51:33 -0500 (Wed, 28 Dec 2022) EndedAt: 2022-12-28 19:52:45 -0500 (Wed, 28 Dec 2022) EllapsedTime: 72.1 seconds RetCode: 0 Status: OK PackageFile: primirTSS_1.17.0.tar.gz PackageFileSize: 3.663 MiB