Package: primirTSS Version: 1.17.0 Command: rm -rf primirTSS.buildbin-libdir && mkdir primirTSS.buildbin-libdir && F:\biocbuild\bbs-3.17-bioc\R\bin\R.exe CMD INSTALL --build --library=primirTSS.buildbin-libdir primirTSS_1.17.0.tar.gz StartedAt: 2022-12-29 05:33:02 -0500 (Thu, 29 Dec 2022) EndedAt: 2022-12-29 05:33:54 -0500 (Thu, 29 Dec 2022) EllapsedTime: 51.6 seconds RetCode: 0 Status: OK PackageFile: primirTSS_1.17.0.zip PackageFileSize: 3.83 MiB