Package: preciseTAD Version: 1.9.0 Command: F:\biocbuild\bbs-3.17-bioc\R\bin\R.exe CMD check --no-multiarch --install=check:preciseTAD.install-out.txt --library=F:\biocbuild\bbs-3.17-bioc\R\library --no-vignettes --timings preciseTAD_1.9.0.tar.gz StartedAt: 2022-12-29 02:24:40 -0500 (Thu, 29 Dec 2022) EndedAt: 2022-12-29 02:33:00 -0500 (Thu, 29 Dec 2022) EllapsedTime: 500.3 seconds RetCode: 0 Status: OK CheckDir: preciseTAD.Rcheck Warnings: 0