Package: prebs Version: 1.39.0 Command: rm -rf prebs.buildbin-libdir && mkdir prebs.buildbin-libdir && F:\biocbuild\bbs-3.17-bioc\R\bin\R.exe CMD INSTALL --build --library=prebs.buildbin-libdir prebs_1.39.0.tar.gz StartedAt: 2022-12-29 05:32:56 -0500 (Thu, 29 Dec 2022) EndedAt: 2022-12-29 05:33:29 -0500 (Thu, 29 Dec 2022) EllapsedTime: 33.0 seconds RetCode: 0 Status: OK PackageFile: prebs_1.39.0.zip PackageFileSize: 279.4 KiB