| Back to Build/check report for BioC 3.17 |
|
This page was generated on 2023-01-02 09:00:43 -0500 (Mon, 02 Jan 2023).
| Hostname | OS | Arch (*) | R version | Installed pkgs |
|---|---|---|---|---|
| palomino5 | Windows Server 2022 Datacenter | x64 | R Under development (unstable) (2022-12-25 r83502 ucrt) -- "Unsuffered Consequences" | 4165 |
| Click on any hostname to see more info about the system (e.g. compilers) (*) as reported by 'uname -p', except on Windows and Mac OS X | ||||
|
To the developers/maintainers of the plethy package: Make sure to use the following settings in order to reproduce any error or warning you see on this page. |
| Package 1478/2158 | Hostname | OS / Arch | INSTALL | BUILD | CHECK | BUILD BIN | ||||||||
| plethy 1.37.0 (landing page) Daniel Bottomly
| palomino5 | Windows Server 2022 Datacenter / x64 | OK | OK | ERROR | OK | ||||||||
| Package: plethy |
| Version: 1.37.0 |
| Command: F:\biocbuild\bbs-3.17-bioc\R\bin\R.exe CMD check --no-multiarch --install=check:plethy.install-out.txt --library=F:\biocbuild\bbs-3.17-bioc\R\library --no-vignettes --timings plethy_1.37.0.tar.gz |
| StartedAt: 2022-12-29 02:20:27 -0500 (Thu, 29 Dec 2022) |
| EndedAt: 2022-12-29 02:22:50 -0500 (Thu, 29 Dec 2022) |
| EllapsedTime: 143.4 seconds |
| RetCode: 1 |
| Status: ERROR |
| CheckDir: plethy.Rcheck |
| Warnings: NA |
##############################################################################
##############################################################################
###
### Running command:
###
### F:\biocbuild\bbs-3.17-bioc\R\bin\R.exe CMD check --no-multiarch --install=check:plethy.install-out.txt --library=F:\biocbuild\bbs-3.17-bioc\R\library --no-vignettes --timings plethy_1.37.0.tar.gz
###
##############################################################################
##############################################################################
* using log directory 'F:/biocbuild/bbs-3.17-bioc-rtools43/meat/plethy.Rcheck'
* using R Under development (unstable) (2022-12-25 r83502 ucrt)
* using platform: x86_64-w64-mingw32 (64-bit)
* R was compiled by
gcc.exe (GCC) 10.4.0
GNU Fortran (GCC) 10.4.0
* running under: Windows Server x64 (build 20348)
* using session charset: UTF-8
* using option '--no-vignettes'
* checking for file 'plethy/DESCRIPTION' ... OK
* this is package 'plethy' version '1.37.0'
* checking package namespace information ... OK
* checking package dependencies ... OK
* checking if this is a source package ... OK
* checking if there is a namespace ... OK
* checking for hidden files and directories ... OK
* checking for portable file names ... OK
* checking whether package 'plethy' can be installed ... OK
* checking installed package size ... OK
* checking package directory ... OK
* checking 'build' directory ... OK
* checking DESCRIPTION meta-information ... OK
* checking top-level files ... OK
* checking for left-over files ... OK
* checking index information ... OK
* checking package subdirectories ... OK
* checking R files for non-ASCII characters ... OK
* checking R files for syntax errors ... OK
* checking whether the package can be loaded ... OK
* checking whether the package can be loaded with stated dependencies ... OK
* checking whether the package can be unloaded cleanly ... OK
* checking whether the namespace can be loaded with stated dependencies ... OK
* checking whether the namespace can be unloaded cleanly ... OK
* checking dependencies in R code ... NOTE
There are ::: calls to the package's namespace in its code. A package
almost never needs to use ::: for its own objects:
'csv.to.table' 'find.break.ranges.integer' 'fix.time' 'multi.grep'
* checking S3 generic/method consistency ... OK
* checking replacement functions ... OK
* checking foreign function calls ... OK
* checking R code for possible problems ... NOTE
generate.sample.buxco : <anonymous> : <anonymous> : <anonymous> :
<anonymous>: no visible global function definition for 'rnorm'
make.db.package: no visible global function definition for
'packageDescription'
mvtsplot.data.frame: no visible global function definition for 'colors'
mvtsplot.data.frame: no visible global function definition for 'par'
mvtsplot.data.frame: no visible global function definition for 'layout'
mvtsplot.data.frame: no visible global function definition for
'strwidth'
mvtsplot.data.frame: no visible global function definition for 'abline'
mvtsplot.data.frame: no visible global function definition for 'mtext'
mvtsplot.data.frame: no visible global function definition for 'bxp'
mvtsplot.data.frame : <anonymous>: no visible binding for global
variable 'median'
mvtsplot.data.frame: no visible global function definition for 'lines'
mvtsplot.data.frame: no visible global function definition for 'Axis'
mvtsplot.data.frame: no visible global function definition for 'legend'
retrieveMatrix,BuxcoDB: no visible global function definition for
'terms'
tsplot,BuxcoDB: no visible binding for global variable 'Days'
tsplot,BuxcoDB: no visible binding for global variable 'Value'
tsplot,BuxcoDB: no visible binding for global variable 'Sample_Name'
Undefined global functions or variables:
Axis Days Sample_Name Value abline bxp colors layout legend lines
median mtext packageDescription par rnorm strwidth terms
Consider adding
importFrom("grDevices", "colors")
importFrom("graphics", "Axis", "abline", "bxp", "layout", "legend",
"lines", "mtext", "par", "strwidth")
importFrom("stats", "median", "rnorm", "terms")
importFrom("utils", "packageDescription")
to your NAMESPACE file.
* checking Rd files ... OK
* checking Rd metadata ... OK
* checking Rd cross-references ... OK
* checking for missing documentation entries ... OK
* checking for code/documentation mismatches ... OK
* checking Rd \usage sections ... OK
* checking Rd contents ... OK
* checking for unstated dependencies in examples ... OK
* checking sizes of PDF files under 'inst/doc' ... OK
* checking files in 'vignettes' ... OK
* checking examples ... OK
* checking for unstated dependencies in 'tests' ... OK
* checking tests ...
Running 'runTests.R'
ERROR
Running the tests in 'tests/runTests.R' failed.
Last 13 lines of output:
ERROR in test.csv.to.table: Error in is.data.frame(dta) && nrow(dta) == 1 && colnames(dta) == c("rat", :
'length = 3' in coercion to 'logical(1)'
ERROR in test.make.break.dta: Error in is.list(basic.result) && names(basic.result) == c("break.dta", :
'length = 2' in coercion to 'logical(1)'
Test files with failing tests
test_check_helpers.R
test.csv.to.table
test.make.break.dta
Error in BiocGenerics:::testPackage("plethy") :
unit tests failed for package plethy
Execution halted
* checking for unstated dependencies in vignettes ... OK
* checking package vignettes in 'inst/doc' ... OK
* checking running R code from vignettes ... SKIPPED
* checking re-building of vignette outputs ... SKIPPED
* checking PDF version of manual ... OK
* DONE
Status: 1 ERROR, 2 NOTEs
See
'F:/biocbuild/bbs-3.17-bioc-rtools43/meat/plethy.Rcheck/00check.log'
for details.
plethy.Rcheck/00install.out
############################################################################## ############################################################################## ### ### Running command: ### ### F:\biocbuild\bbs-3.17-bioc\R\bin\R.exe CMD INSTALL plethy ### ############################################################################## ############################################################################## * installing to library 'F:/biocbuild/bbs-3.17-bioc/R/library' * installing *source* package 'plethy' ... ** using staged installation ** R ** inst ** byte-compile and prepare package for lazy loading ** help *** installing help indices ** building package indices ** installing vignettes ** testing if installed package can be loaded from temporary location ** testing if installed package can be loaded from final location ** testing if installed package keeps a record of temporary installation path * DONE (plethy)
plethy.Rcheck/tests/runTests.Rout.fail
R Under development (unstable) (2022-12-25 r83502 ucrt) -- "Unsuffered Consequences"
Copyright (C) 2022 The R Foundation for Statistical Computing
Platform: x86_64-w64-mingw32/x64 (64-bit)
R is free software and comes with ABSOLUTELY NO WARRANTY.
You are welcome to redistribute it under certain conditions.
Type 'license()' or 'licence()' for distribution details.
R is a collaborative project with many contributors.
Type 'contributors()' for more information and
'citation()' on how to cite R or R packages in publications.
Type 'demo()' for some demos, 'help()' for on-line help, or
'help.start()' for an HTML browser interface to help.
Type 'q()' to quit R.
> BiocGenerics:::testPackage("plethy")
Attaching package: 'BiocGenerics'
The following objects are masked from 'package:stats':
IQR, mad, sd, var, xtabs
The following objects are masked from 'package:base':
Filter, Find, Map, Position, Reduce, anyDuplicated, aperm, append,
as.data.frame, basename, cbind, colnames, dirname, do.call,
duplicated, eval, evalq, get, grep, grepl, intersect, is.unsorted,
lapply, mapply, match, mget, order, paste, pmax, pmax.int, pmin,
pmin.int, rank, rbind, rownames, sapply, setdiff, sort, table,
tapply, union, unique, unsplit, which.max, which.min
Attaching package: 'S4Vectors'
The following objects are masked from 'package:base':
I, expand.grid, unname
Loading required package: reshape2
Processing F:\biocbuild\bbs-3.17-bioc-rtools43\tmpdir\Rtmpe6AYYs\file1bd8831d458c8 in chunks of 10000
Starting chunk 1
Reached breakpoint change
Processing breakpoint 1
Starting sample sample_1
Sample written
Processing breakpoint 2
Starting sample sample_1
Sample written
Starting sample sample_2
Sample written
Processing breakpoint 3
Starting sample sample_2
Sample written
Starting sample sample_3
Sample written
Processing breakpoint 4
Starting sample sample_1
Sample written
Starting sample sample_3
Sample written
Processing breakpoint 5
Starting sample sample_1
Sample written
Starting sample sample_2
Sample written
Processing breakpoint 6
Starting sample sample_2
Sample written
Starting sample sample_3
Sample written
Reached the end of the file, writing remaining data
Starting sample sample_3
Sample written
Timing stopped at: 0.02 0 0.01
Error in is.data.frame(dta) && nrow(dta) == 1 && colnames(dta) == c("rat", :
'length = 3' in coercion to 'logical(1)'
Processing F:\biocbuild\bbs-3.17-bioc-rtools43\tmpdir\Rtmpe6AYYs\file1bd882d2c6260 in chunks of 10000
Starting chunk 1
Reached breakpoint change
Processing breakpoint 1
Starting sample sample_1
Sample written
Reached the end of the file, writing remaining data
Starting sample sample_1
Sample written
Starting sample sample_2
Sample written
Starting sample sample_3
Sample written
Processing F:\biocbuild\bbs-3.17-bioc-rtools43\tmpdir\Rtmpe6AYYs\file1bd881f60509d in chunks of 10000
Starting chunk 1
Reached breakpoint change
Processing breakpoint 1
Starting sample sample_4
Sample written
Processing breakpoint 2
Starting sample sample_4
Sample written
Starting sample sample_5
Sample written
Reached the end of the file, writing remaining data
Starting sample sample_5
Sample written
Processing F:\biocbuild\bbs-3.17-bioc-rtools43\tmpdir\Rtmpe6AYYs\file1bd8822df1310 in chunks of 10000
Starting chunk 1
Reached breakpoint change
Processing breakpoint 1
Starting sample sample_1
Sample written
Processing breakpoint 2
Starting sample sample_1
Sample written
Starting sample sample_2
Sample written
Processing breakpoint 3
Starting sample sample_2
Sample written
Starting sample sample_3
Sample written
Processing breakpoint 4
Starting sample sample_3
Sample written
Starting sample sample_4
Sample written
Processing breakpoint 5
Starting sample sample_2
Sample written
Starting sample sample_4
Sample written
Reached the end of the file, writing remaining data
Starting sample sample_2
Sample written
Starting sample sample_5
Sample written
Timing stopped at: 0 0 0
Error in is.list(basic.result) && names(basic.result) == c("break.dta", :
'length = 2' in coercion to 'logical(1)'
In addition: Warning message:
call dbDisconnect() when finished working with a connection
Processing F:\biocbuild\bbs-3.17-bioc-rtools43\tmpdir\Rtmpe6AYYs\file1bd883ac61c88 in chunks of 10000
Starting chunk 1
Reached breakpoint change
Processing breakpoint 1
Starting sample sample_1
Sample written
Processing breakpoint 2
Starting sample sample_2
Sample written
Processing breakpoint 3
Starting sample sample_1
Sample written
Processing breakpoint 4
Starting sample sample_2
Sample written
Processing breakpoint 5
Starting sample sample_1
Sample written
Processing breakpoint 6
Starting sample sample_2
Sample written
Processing breakpoint 7
Starting sample sample_1
Sample written
Reached the end of the file, writing remaining data
Starting sample sample_2
Sample written
RUNIT TEST PROTOCOL -- Thu Dec 29 02:22:41 2022
***********************************************
Number of test functions: 23
Number of errors: 2
Number of failures: 0
1 Test Suite :
plethy RUnit Tests - 23 test functions, 2 errors, 0 failures
ERROR in test.csv.to.table: Error in is.data.frame(dta) && nrow(dta) == 1 && colnames(dta) == c("rat", :
'length = 3' in coercion to 'logical(1)'
ERROR in test.make.break.dta: Error in is.list(basic.result) && names(basic.result) == c("break.dta", :
'length = 2' in coercion to 'logical(1)'
Test files with failing tests
test_check_helpers.R
test.csv.to.table
test.make.break.dta
Error in BiocGenerics:::testPackage("plethy") :
unit tests failed for package plethy
Execution halted
plethy.Rcheck/plethy-Ex.timings
| name | user | system | elapsed | |
| BuxcoDB | 0.61 | 0.06 | 0.69 | |
| add_query_funcs | 0.19 | 0.00 | 0.18 | |
| dbImport | 0.25 | 0.02 | 0.36 | |
| parsing | 2.52 | 0.09 | 2.73 | |
| plethy | 2.21 | 0.10 | 2.55 | |
| utilities | 3.69 | 0.19 | 4.25 | |