############################################################################## ############################################################################## ### ### Running command: ### ### chmod a+r pdInfoBuilder -R && F:\biocbuild\bbs-3.17-bioc\R\bin\R.exe CMD build --keep-empty-dirs --no-resave-data pdInfoBuilder ### ############################################################################## ############################################################################## * checking for file 'pdInfoBuilder/DESCRIPTION' ... OK * preparing 'pdInfoBuilder': * checking DESCRIPTION meta-information ... OK * cleaning src * installing the package to build vignettes ----------------------------------- ERROR: dependencies 'affxparser', 'oligo' are not available for package 'pdInfoBuilder' * removing 'F:/biocbuild/bbs-3.17-bioc-rtools43/tmpdir/Rtmpo9mS1M/Rinst36743184380f/pdInfoBuilder' ----------------------------------- ERROR: package installation failed