Package: multtest Version: 2.55.0 Command: rm -rf multtest.buildbin-libdir && mkdir multtest.buildbin-libdir && F:\biocbuild\bbs-3.17-bioc\R\bin\R.exe CMD INSTALL --build --library=multtest.buildbin-libdir multtest_2.55.0.tar.gz StartedAt: 2022-12-29 05:27:03 -0500 (Thu, 29 Dec 2022) EndedAt: 2022-12-29 05:27:23 -0500 (Thu, 29 Dec 2022) EllapsedTime: 20.3 seconds RetCode: 0 Status: OK PackageFile: multtest_2.55.0.zip PackageFileSize: 836.3 KiB