Package: motifStack Version: 1.43.0 Command: F:\biocbuild\bbs-3.17-bioc\R\bin\R.exe CMD check --no-multiarch --install=check:motifStack.install-out.txt --library=F:\biocbuild\bbs-3.17-bioc\R\library --no-vignettes --timings motifStack_1.43.0.tar.gz StartedAt: 2022-12-29 01:34:38 -0500 (Thu, 29 Dec 2022) EndedAt: 2022-12-29 01:38:47 -0500 (Thu, 29 Dec 2022) EllapsedTime: 248.1 seconds RetCode: 0 Status: OK CheckDir: motifStack.Rcheck Warnings: 0