Package: miRspongeR Version: 2.3.0 Command: F:\biocbuild\bbs-3.17-bioc\R\bin\R.exe CMD check --no-multiarch --install=check:miRspongeR.install-out.txt --library=F:\biocbuild\bbs-3.17-bioc\R\library --no-vignettes --timings miRspongeR_2.3.0.tar.gz StartedAt: 2022-12-29 01:27:27 -0500 (Thu, 29 Dec 2022) EndedAt: 2022-12-29 01:31:42 -0500 (Thu, 29 Dec 2022) EllapsedTime: 254.6 seconds RetCode: 0 Status: OK CheckDir: miRspongeR.Rcheck Warnings: 0