Package: methylumi Version: 2.45.0 Command: F:\biocbuild\bbs-3.17-bioc\R\bin\R.exe CMD check --no-multiarch --install=check:methylumi.install-out.txt --library=F:\biocbuild\bbs-3.17-bioc\R\library --no-vignettes --timings methylumi_2.45.0.tar.gz StartedAt: 2022-12-29 01:19:38 -0500 (Thu, 29 Dec 2022) EndedAt: 2022-12-29 01:24:03 -0500 (Thu, 29 Dec 2022) EllapsedTime: 265.4 seconds RetCode: 0 Status: OK CheckDir: methylumi.Rcheck Warnings: 0