Package: methylumi Version: 2.45.0 Command: chmod a+r methylumi -R && F:\biocbuild\bbs-3.17-bioc\R\bin\R.exe CMD build --keep-empty-dirs --no-resave-data methylumi StartedAt: 2022-12-28 19:02:31 -0500 (Wed, 28 Dec 2022) EndedAt: 2022-12-28 19:06:25 -0500 (Wed, 28 Dec 2022) EllapsedTime: 233.7 seconds RetCode: 0 Status: OK PackageFile: methylumi_2.45.0.tar.gz PackageFileSize: 7.331 MiB