Package: methylumi Version: 2.45.0 Command: rm -rf methylumi.buildbin-libdir && mkdir methylumi.buildbin-libdir && F:\biocbuild\bbs-3.17-bioc\R\bin\R.exe CMD INSTALL --build --library=methylumi.buildbin-libdir methylumi_2.45.0.tar.gz StartedAt: 2022-12-29 05:23:08 -0500 (Thu, 29 Dec 2022) EndedAt: 2022-12-29 05:24:18 -0500 (Thu, 29 Dec 2022) EllapsedTime: 69.5 seconds RetCode: 0 Status: OK PackageFile: methylumi_2.45.0.zip PackageFileSize: 8.44 MiB