Package: methylscaper Version: 1.7.0 Command: F:\biocbuild\bbs-3.17-bioc\R\bin\R.exe CMD INSTALL methylscaper StartedAt: 2022-12-28 16:19:30 -0500 (Wed, 28 Dec 2022) EndedAt: 2022-12-28 16:19:56 -0500 (Wed, 28 Dec 2022) EllapsedTime: 26.5 seconds RetCode: 0 Status: OK