Package: methylscaper Version: 1.7.0 Command: chmod a+r methylscaper -R && F:\biocbuild\bbs-3.17-bioc\R\bin\R.exe CMD build --keep-empty-dirs --no-resave-data methylscaper StartedAt: 2022-12-28 19:01:19 -0500 (Wed, 28 Dec 2022) EndedAt: 2022-12-28 19:02:31 -0500 (Wed, 28 Dec 2022) EllapsedTime: 72.1 seconds RetCode: 0 Status: OK PackageFile: methylscaper_1.7.0.tar.gz PackageFileSize: 3.808 MiB