Package: methylKit Version: 1.25.0 Command: rm -rf methylKit.buildbin-libdir && mkdir methylKit.buildbin-libdir && F:\biocbuild\bbs-3.17-bioc\R\bin\R.exe CMD INSTALL --build --library=methylKit.buildbin-libdir methylKit_1.25.0.tar.gz StartedAt: 2022-12-29 05:22:47 -0500 (Thu, 29 Dec 2022) EndedAt: 2022-12-29 05:23:57 -0500 (Thu, 29 Dec 2022) EllapsedTime: 70.2 seconds RetCode: 0 Status: OK PackageFile: methylKit_1.25.0.zip PackageFileSize: 6.365 MiB