Package: methimpute Version: 1.21.0 Command: chmod a+r methimpute -R && F:\biocbuild\bbs-3.17-bioc\R\bin\R.exe CMD build --keep-empty-dirs --no-resave-data methimpute StartedAt: 2022-12-28 18:57:59 -0500 (Wed, 28 Dec 2022) EndedAt: 2022-12-28 19:00:05 -0500 (Wed, 28 Dec 2022) EllapsedTime: 126.2 seconds RetCode: 0 Status: OK PackageFile: methimpute_1.21.0.tar.gz PackageFileSize: 1.268 MiB