| Back to Build/check report for BioC 3.17 |
|
This page was generated on 2023-01-02 09:00:36 -0500 (Mon, 02 Jan 2023).
| Hostname | OS | Arch (*) | R version | Installed pkgs |
|---|---|---|---|---|
| palomino5 | Windows Server 2022 Datacenter | x64 | R Under development (unstable) (2022-12-25 r83502 ucrt) -- "Unsuffered Consequences" | 4165 |
| Click on any hostname to see more info about the system (e.g. compilers) (*) as reported by 'uname -p', except on Windows and Mac OS X | ||||
|
To the developers/maintainers of the marr package: Make sure to use the following settings in order to reproduce any error or warning you see on this page. |
| Package 1076/2158 | Hostname | OS / Arch | INSTALL | BUILD | CHECK | BUILD BIN | ||||||||
| marr 1.9.0 (landing page) Tusharkanti Ghosh
| palomino5 | Windows Server 2022 Datacenter / x64 | OK | OK | OK | OK | ||||||||
| Package: marr |
| Version: 1.9.0 |
| Command: F:\biocbuild\bbs-3.17-bioc\R\bin\R.exe CMD check --no-multiarch --install=check:marr.install-out.txt --library=F:\biocbuild\bbs-3.17-bioc\R\library --no-vignettes --timings marr_1.9.0.tar.gz |
| StartedAt: 2022-12-29 01:02:41 -0500 (Thu, 29 Dec 2022) |
| EndedAt: 2022-12-29 01:05:23 -0500 (Thu, 29 Dec 2022) |
| EllapsedTime: 162.9 seconds |
| RetCode: 0 |
| Status: OK |
| CheckDir: marr.Rcheck |
| Warnings: 0 |
##############################################################################
##############################################################################
###
### Running command:
###
### F:\biocbuild\bbs-3.17-bioc\R\bin\R.exe CMD check --no-multiarch --install=check:marr.install-out.txt --library=F:\biocbuild\bbs-3.17-bioc\R\library --no-vignettes --timings marr_1.9.0.tar.gz
###
##############################################################################
##############################################################################
* using log directory 'F:/biocbuild/bbs-3.17-bioc-rtools43/meat/marr.Rcheck'
* using R Under development (unstable) (2022-12-25 r83502 ucrt)
* using platform: x86_64-w64-mingw32 (64-bit)
* R was compiled by
gcc.exe (GCC) 10.4.0
GNU Fortran (GCC) 10.4.0
* running under: Windows Server x64 (build 20348)
* using session charset: UTF-8
* using option '--no-vignettes'
* checking for file 'marr/DESCRIPTION' ... OK
* checking extension type ... Package
* this is package 'marr' version '1.9.0'
* package encoding: UTF-8
* checking package namespace information ... OK
* checking package dependencies ... OK
* checking if this is a source package ... OK
* checking if there is a namespace ... OK
* checking for hidden files and directories ... OK
* checking for portable file names ... OK
* checking whether package 'marr' can be installed ... OK
* used C++ compiler: 'G__~1.EXE (GCC) 12.2.0'
* checking installed package size ... OK
* checking package directory ... OK
* checking 'build' directory ... OK
* checking DESCRIPTION meta-information ... OK
* checking top-level files ... OK
* checking for left-over files ... OK
* checking index information ... OK
* checking package subdirectories ... OK
* checking R files for non-ASCII characters ... OK
* checking R files for syntax errors ... OK
* checking whether the package can be loaded ... OK
* checking whether the package can be loaded with stated dependencies ... OK
* checking whether the package can be unloaded cleanly ... OK
* checking whether the namespace can be loaded with stated dependencies ... OK
* checking whether the namespace can be unloaded cleanly ... OK
* checking dependencies in R code ... OK
* checking S3 generic/method consistency ... OK
* checking replacement functions ... OK
* checking foreign function calls ... OK
* checking R code for possible problems ... OK
* checking Rd files ... OK
* checking Rd metadata ... OK
* checking Rd cross-references ... OK
* checking for missing documentation entries ... OK
* checking for code/documentation mismatches ... OK
* checking Rd \usage sections ... OK
* checking Rd contents ... OK
* checking for unstated dependencies in examples ... OK
* checking contents of 'data' directory ... OK
* checking data for non-ASCII characters ... OK
* checking data for ASCII and uncompressed saves ... OK
* checking line endings in C/C++/Fortran sources/headers ... OK
* checking compiled code ... NOTE
Note: information on .o files for x64 is not available
File 'F:/biocbuild/bbs-3.17-bioc/R/library/marr/libs/x64/marr.dll':
Found 'abort', possibly from 'abort' (C), 'runtime' (Fortran)
Found 'exit', possibly from 'exit' (C), 'stop' (Fortran)
Compiled code should not call entry points which might terminate R nor
write to stdout/stderr instead of to the console, nor use Fortran I/O
nor system RNGs nor [v]sprintf. The detected symbols are linked into
the code but might come from libraries and not actually be called.
See 'Writing portable packages' in the 'Writing R Extensions' manual.
* checking files in 'vignettes' ... OK
* checking examples ... OK
* checking for unstated dependencies in 'tests' ... OK
* checking tests ...
Running 'testthat.R'
OK
* checking for unstated dependencies in vignettes ... OK
* checking package vignettes in 'inst/doc' ... OK
* checking running R code from vignettes ... SKIPPED
* checking re-building of vignette outputs ... SKIPPED
* checking PDF version of manual ... OK
* DONE
Status: 1 NOTE
See
'F:/biocbuild/bbs-3.17-bioc-rtools43/meat/marr.Rcheck/00check.log'
for details.
marr.Rcheck/00install.out
##############################################################################
##############################################################################
###
### Running command:
###
### F:\biocbuild\bbs-3.17-bioc\R\bin\R.exe CMD INSTALL marr
###
##############################################################################
##############################################################################
* installing to library 'F:/biocbuild/bbs-3.17-bioc/R/library'
* installing *source* package 'marr' ...
** using staged installation
** libs
using C++ compiler: 'G__~1.EXE (GCC) 12.2.0'
g++ -std=gnu++11 -I"F:/biocbuild/bbs-3.17-bioc/R/include" -DNDEBUG -I'F:/biocbuild/bbs-3.17-bioc/R/library/Rcpp/include' -I"c:/rtools42/x86_64-w64-mingw32.static.posix/include" -O2 -Wall -mfpmath=sse -msse2 -mstackrealign -c RcppExports.cpp -o RcppExports.o
g++ -std=gnu++11 -I"F:/biocbuild/bbs-3.17-bioc/R/include" -DNDEBUG -I'F:/biocbuild/bbs-3.17-bioc/R/library/Rcpp/include' -I"c:/rtools42/x86_64-w64-mingw32.static.posix/include" -O2 -Wall -mfpmath=sse -msse2 -mstackrealign -c marrUtility.cpp -o marrUtility.o
marrUtility.cpp: In function 'Rcpp::NumericVector getSS(Rcpp::NumericVector)':
marrUtility.cpp:75:7: warning: variable 'i' set but not used [-Wunused-but-set-variable]
75 | int i=0;
| ^
g++ -std=gnu++11 -shared -s -static-libgcc -o marr.dll tmp.def RcppExports.o marrUtility.o -Lc:/rtools42/x86_64-w64-mingw32.static.posix/lib/x64 -Lc:/rtools42/x86_64-w64-mingw32.static.posix/lib -LF:/biocbuild/bbs-3.17-bioc/R/bin/x64 -lR
installing to F:/biocbuild/bbs-3.17-bioc/R/library/00LOCK-marr/00new/marr/libs/x64
** R
** data
** byte-compile and prepare package for lazy loading
** help
*** installing help indices
** building package indices
** installing vignettes
** testing if installed package can be loaded from temporary location
** testing if installed package can be loaded from final location
** testing if installed package keeps a record of temporary installation path
* DONE (marr)
marr.Rcheck/tests/testthat.Rout
R Under development (unstable) (2022-12-25 r83502 ucrt) -- "Unsuffered Consequences"
Copyright (C) 2022 The R Foundation for Statistical Computing
Platform: x86_64-w64-mingw32/x64 (64-bit)
R is free software and comes with ABSOLUTELY NO WARRANTY.
You are welcome to redistribute it under certain conditions.
Type 'license()' or 'licence()' for distribution details.
R is a collaborative project with many contributors.
Type 'contributors()' for more information and
'citation()' on how to cite R or R packages in publications.
Type 'demo()' for some demos, 'help()' for on-line help, or
'help.start()' for an HTML browser interface to help.
Type 'q()' to quit R.
> library(testthat)
> library(marr)
>
> test_check("marr")
[ FAIL 0 | WARN 0 | SKIP 0 | PASS 4 ]
>
> proc.time()
user system elapsed
22.62 0.31 22.93
marr.Rcheck/marr-Ex.timings
| name | user | system | elapsed | |
| Marr-class | 0.14 | 0.03 | 0.17 | |
| Marr | 3.17 | 0.06 | 3.23 | |
| MarrAlpha | 0.12 | 0.00 | 0.13 | |
| MarrData | 0.16 | 0.00 | 0.15 | |
| MarrFeatureVars | 0.14 | 0.00 | 0.14 | |
| MarrFeatures | 0.12 | 0.00 | 0.13 | |
| MarrFeaturesfiltered | 0.13 | 0.00 | 0.12 | |
| MarrFilterData | 0.20 | 0.02 | 0.43 | |
| MarrPFeatures | 0.13 | 0.00 | 0.12 | |
| MarrPSamplepairs | 0.13 | 0.00 | 0.12 | |
| MarrPlotFeatures | 0.26 | 0.00 | 0.27 | |
| MarrPlotSamplepairs | 0.27 | 0.00 | 0.26 | |
| MarrProc | 0.12 | 0.00 | 0.13 | |
| MarrSamplepairs | 0.15 | 0.00 | 0.14 | |
| MarrSamplepairsfiltered | 0.14 | 0.00 | 0.14 | |
| msprepCOPD | 0.01 | 0.01 | 0.03 | |