Package: maigesPack Version: 1.63.0 Command: F:\biocbuild\bbs-3.17-bioc\R\bin\R.exe CMD check --no-multiarch --install=check:maigesPack.install-out.txt --library=F:\biocbuild\bbs-3.17-bioc\R\library --no-vignettes --timings maigesPack_1.63.0.tar.gz StartedAt: 2022-12-29 01:01:14 -0500 (Thu, 29 Dec 2022) EndedAt: 2022-12-29 01:03:01 -0500 (Thu, 29 Dec 2022) EllapsedTime: 106.8 seconds RetCode: 0 Status: OK CheckDir: maigesPack.Rcheck Warnings: 0