Package: lpNet Version: 2.31.0 Command: chmod a+r lpNet -R && F:\biocbuild\bbs-3.17-bioc\R\bin\R.exe CMD build --keep-empty-dirs --no-resave-data lpNet StartedAt: 2022-12-28 18:48:37 -0500 (Wed, 28 Dec 2022) EndedAt: 2022-12-28 18:49:13 -0500 (Wed, 28 Dec 2022) EllapsedTime: 36.4 seconds RetCode: 0 Status: OK PackageFile: lpNet_2.31.0.tar.gz PackageFileSize: 219.2 KiB