Package: lpNet Version: 2.31.0 Command: rm -rf lpNet.buildbin-libdir && mkdir lpNet.buildbin-libdir && F:\biocbuild\bbs-3.17-bioc\R\bin\R.exe CMD INSTALL --build --library=lpNet.buildbin-libdir lpNet_2.31.0.tar.gz StartedAt: 2022-12-29 05:19:56 -0500 (Thu, 29 Dec 2022) EndedAt: 2022-12-29 05:20:06 -0500 (Thu, 29 Dec 2022) EllapsedTime: 9.8 seconds RetCode: 0 Status: OK PackageFile: lpNet_2.31.0.zip PackageFileSize: 319.6 KiB