git_url: https://git.bioconductor.org/packages/katdetectr git_branch: master git_last_commit: 5203eb8 git_last_commit_date: 2022-12-05 12:02:32 -0500 (Mon, 05 Dec 2022) Package: katdetectr Version: 1.1.2 Maintainer: Daan Hazelaar MaintainerEmail: daanhazelaar at gmail.com