| Back to Build/check report for BioC 3.17 |
|
This page was generated on 2023-01-02 09:00:34 -0500 (Mon, 02 Jan 2023).
| Hostname | OS | Arch (*) | R version | Installed pkgs |
|---|---|---|---|---|
| palomino5 | Windows Server 2022 Datacenter | x64 | R Under development (unstable) (2022-12-25 r83502 ucrt) -- "Unsuffered Consequences" | 4165 |
| Click on any hostname to see more info about the system (e.g. compilers) (*) as reported by 'uname -p', except on Windows and Mac OS X | ||||
|
To the developers/maintainers of the igvR package: Make sure to use the following settings in order to reproduce any error or warning you see on this page. |
| Package 944/2158 | Hostname | OS / Arch | INSTALL | BUILD | CHECK | BUILD BIN | ||||||||
| igvR 1.19.0 (landing page) Paul Shannon
| palomino5 | Windows Server 2022 Datacenter / x64 | OK | OK | WARNINGS | OK | ||||||||
| Package: igvR |
| Version: 1.19.0 |
| Command: chmod a+r igvR -R && F:\biocbuild\bbs-3.17-bioc\R\bin\R.exe CMD build --keep-empty-dirs --no-resave-data igvR |
| StartedAt: 2022-12-28 18:38:42 -0500 (Wed, 28 Dec 2022) |
| EndedAt: 2022-12-28 18:39:46 -0500 (Wed, 28 Dec 2022) |
| EllapsedTime: 63.2 seconds |
| RetCode: 0 |
| Status: OK |
| PackageFile: igvR_1.19.0.tar.gz |
| PackageFileSize: 8.305 MiB |
############################################################################## ############################################################################## ### ### Running command: ### ### chmod a+r igvR -R && F:\biocbuild\bbs-3.17-bioc\R\bin\R.exe CMD build --keep-empty-dirs --no-resave-data igvR ### ############################################################################## ############################################################################## * checking for file 'igvR/DESCRIPTION' ... OK * preparing 'igvR': * checking DESCRIPTION meta-information ... OK * installing the package to build vignettes * creating vignettes ... OK * checking for LF line-endings in source and make files and shell scripts * checking for empty or unneeded directories WARNING: directory 'igvR/explore' is empty WARNING: directory 'igvR/inst/browserCode/lib' is empty WARNING: directory 'igvR/misc' is empty * building 'igvR_1.19.0.tar.gz'