Package: icetea Version: 1.17.0 Command: F:\biocbuild\bbs-3.17-bioc\R\bin\R.exe CMD INSTALL icetea StartedAt: 2022-12-28 16:01:21 -0500 (Wed, 28 Dec 2022) EndedAt: 2022-12-28 16:02:11 -0500 (Wed, 28 Dec 2022) EllapsedTime: 49.7 seconds RetCode: 0 Status: OK