Package: iChip Version: 1.53.0 Command: rm -rf iChip.buildbin-libdir && mkdir iChip.buildbin-libdir && F:\biocbuild\bbs-3.17-bioc\R\bin\R.exe CMD INSTALL --build --library=iChip.buildbin-libdir iChip_1.53.0.tar.gz StartedAt: 2022-12-29 05:16:35 -0500 (Thu, 29 Dec 2022) EndedAt: 2022-12-29 05:16:57 -0500 (Thu, 29 Dec 2022) EllapsedTime: 22.1 seconds RetCode: 0 Status: OK PackageFile: iChip_1.53.0.zip PackageFileSize: 1.823 MiB