Package: hpar Version: 1.41.1 Command: rm -rf hpar.buildbin-libdir && mkdir hpar.buildbin-libdir && F:\biocbuild\bbs-3.17-bioc\R\bin\R.exe CMD INSTALL --build --library=hpar.buildbin-libdir hpar_1.41.1.tar.gz StartedAt: 2022-12-29 05:16:05 -0500 (Thu, 29 Dec 2022) EndedAt: 2022-12-29 05:16:22 -0500 (Thu, 29 Dec 2022) EllapsedTime: 17.5 seconds RetCode: 0 Status: OK PackageFile: hpar_1.41.1.zip PackageFileSize: 629.6 KiB