git_url: https://git.bioconductor.org/packages/graph git_branch: master git_last_commit: 4cf9f98 git_last_commit_date: 2022-12-06 20:33:16 -0500 (Tue, 06 Dec 2022) Package: graph Version: 1.77.1 Maintainer: Bioconductor Package Maintainer MaintainerEmail: maintainer at bioconductor.org