Package: ggtreeDendro Version: 1.1.2 Command: rm -rf ggtreeDendro.buildbin-libdir && mkdir ggtreeDendro.buildbin-libdir && F:\biocbuild\bbs-3.17-bioc\R\bin\R.exe CMD INSTALL --build --library=ggtreeDendro.buildbin-libdir ggtreeDendro_1.1.2.tar.gz StartedAt: 2022-12-29 05:12:57 -0500 (Thu, 29 Dec 2022) EndedAt: 2022-12-29 05:13:06 -0500 (Thu, 29 Dec 2022) EllapsedTime: 8.8 seconds RetCode: 0 Status: OK PackageFile: ggtreeDendro_1.1.2.zip PackageFileSize: 176 KiB