Package: genomes Version: 3.29.0 Command: F:\biocbuild\bbs-3.17-bioc\R\bin\R.exe CMD INSTALL genomes StartedAt: 2022-12-28 15:31:54 -0500 (Wed, 28 Dec 2022) EndedAt: 2022-12-28 15:32:12 -0500 (Wed, 28 Dec 2022) EllapsedTime: 18.3 seconds RetCode: 0 Status: OK