Package: geneClassifiers Version: 1.23.0 Command: rm -rf geneClassifiers.buildbin-libdir && mkdir geneClassifiers.buildbin-libdir && F:\biocbuild\bbs-3.17-bioc\R\bin\R.exe CMD INSTALL --build --library=geneClassifiers.buildbin-libdir geneClassifiers_1.23.0.tar.gz StartedAt: 2022-12-29 05:10:59 -0500 (Thu, 29 Dec 2022) EndedAt: 2022-12-29 05:11:19 -0500 (Thu, 29 Dec 2022) EllapsedTime: 20.8 seconds RetCode: 0 Status: OK PackageFile: geneClassifiers_1.23.0.zip PackageFileSize: 1.741 MiB