Package: gaga Version: 2.45.0 Command: chmod a+r gaga -R && F:\biocbuild\bbs-3.17-bioc\R\bin\R.exe CMD build --keep-empty-dirs --no-resave-data gaga StartedAt: 2022-12-28 18:13:30 -0500 (Wed, 28 Dec 2022) EndedAt: 2022-12-28 18:14:00 -0500 (Wed, 28 Dec 2022) EllapsedTime: 29.4 seconds RetCode: 0 Status: OK PackageFile: gaga_2.45.0.tar.gz PackageFileSize: 433.9 KiB