Package: gaga Version: 2.45.0 Command: rm -rf gaga.buildbin-libdir && mkdir gaga.buildbin-libdir && F:\biocbuild\bbs-3.17-bioc\R\bin\R.exe CMD INSTALL --build --library=gaga.buildbin-libdir gaga_2.45.0.tar.gz StartedAt: 2022-12-29 05:10:20 -0500 (Thu, 29 Dec 2022) EndedAt: 2022-12-29 05:10:39 -0500 (Thu, 29 Dec 2022) EllapsedTime: 19.1 seconds RetCode: 0 Status: OK PackageFile: gaga_2.45.0.zip PackageFileSize: 624.1 KiB