Package: flowPlots Version: 1.47.0 Command: F:\biocbuild\bbs-3.17-bioc\R\bin\R.exe CMD check --no-multiarch --install=check:flowPlots.install-out.txt --library=F:\biocbuild\bbs-3.17-bioc\R\library --no-vignettes --timings flowPlots_1.47.0.tar.gz StartedAt: 2022-12-28 23:52:38 -0500 (Wed, 28 Dec 2022) EndedAt: 2022-12-28 23:53:14 -0500 (Wed, 28 Dec 2022) EllapsedTime: 35.7 seconds RetCode: 0 Status: OK CheckDir: flowPlots.Rcheck Warnings: 0