Package: fdrame Version: 1.71.0 Command: rm -rf fdrame.buildbin-libdir && mkdir fdrame.buildbin-libdir && F:\biocbuild\bbs-3.17-bioc\R\bin\R.exe CMD INSTALL --build --library=fdrame.buildbin-libdir fdrame_1.71.0.tar.gz StartedAt: 2022-12-29 05:08:38 -0500 (Thu, 29 Dec 2022) EndedAt: 2022-12-29 05:08:54 -0500 (Thu, 29 Dec 2022) EllapsedTime: 16.1 seconds RetCode: 0 Status: OK PackageFile: fdrame_1.71.0.zip PackageFileSize: 976.8 KiB