Package: factR Version: 1.1.0 Command: chmod a+r factR -R && F:\biocbuild\bbs-3.17-bioc\R\bin\R.exe CMD build --keep-empty-dirs --no-resave-data factR StartedAt: 2022-12-28 18:04:08 -0500 (Wed, 28 Dec 2022) EndedAt: 2022-12-28 18:07:03 -0500 (Wed, 28 Dec 2022) EllapsedTime: 175.0 seconds RetCode: 0 Status: OK PackageFile: factR_1.1.0.tar.gz PackageFileSize: 1.38 MiB